BEGIN:VCALENDAR
VERSION:2.0
PRODID:-//ExhibitionMatches.com//NONSGML v1.0//EN
BEGIN:VEVENT
UID=906BB41C-E4EE-749F-4F0171F1AF2BA07A
DTSTAMP=20260424T173747Z
DTSTART;VALUE=DATE:20260725
DTEND;VALUE=DATE:20260727
SUMMARY:Sundown Showdown
LOCATION:Glenrock High School, 225 Oregon Trail, Glenrock, WY, 82637
DESCRIPTION:View full event details: https://wrestlingtournaments.org/view.cfm?ID=107102
Contact: Kelsey Stephens glenrockwrestlingclub@gmail.com
URL;VALUE=URI:https://wrestlingtournaments.org/view.cfm?ID=107102
END:VEVENT
END:VCALENDAR